BEGIN:VCALENDAR
VERSION:2.0
PRODID:-//Voyageur Brewing Company - ECPv6.15.20//NONSGML v1.0//EN
CALSCALE:GREGORIAN
METHOD:PUBLISH
X-ORIGINAL-URL:https://www.voyageurbrewing.com
X-WR-CALDESC:Events for Voyageur Brewing Company
REFRESH-INTERVAL;VALUE=DURATION:PT1H
X-Robots-Tag:noindex
X-PUBLISHED-TTL:PT1H
BEGIN:VTIMEZONE
TZID:UTC
BEGIN:STANDARD
TZOFFSETFROM:+0000
TZOFFSETTO:+0000
TZNAME:UTC
DTSTART:20180101T000000
END:STANDARD
END:VTIMEZONE
BEGIN:VEVENT
DTSTART;TZID=UTC:20190118T130000
DTEND;TZID=UTC:20190118T170000
DTSTAMP:20260425T140541
CREATED:20181215T184704Z
LAST-MODIFIED:20181215T184704Z
UID:4200-1547816400-1547830800@www.voyageurbrewing.com
SUMMARY:Icelandite Coastal Fen and Fun
DESCRIPTION:Voyageur Brewing Company loves to showcase the wonder and beauty in Cook County. State Parks\, National Forests and other historical sites get most of the fame in Minnesota but just as important and sometimes even more special are SNA’s\, or Scientific and Natural Areas. Some places don’t hold the distinguishing name of a SNA but are equally interesting and we invite you to explore a place nearby that is deserving of recognition. \nMeet at the Grand Marais Public Parking lot in front of the Cook County Coop at 1:00pm to carpool to the location. Or meet at the location itself near mile marker 121 at 1:30pm. Be sure to dress warm because all time will be spent outside and there will surely be a cool breeze off of Lake Superior. All participants will receive a token for a free 9-ounce pour at Voyageur Brewing Company where conversation and learning can continue. \nIcelandite Coastal Fen\n  \nMaybe you’ve heard of them\, maybe you haven’t. Find out more about SNA’s on the MN DNR website.  \nScientific and Natural Areas are exceptional places where native plants and animals flourish; where rare species are protected; and where we can know\, and study\, Minnesota’s fascinating natural features. \nThey protect natural features of exceptional scientific or educational value including: \nnative plant communities\,\npopulations of rare species\,\nand geological features. \nThey may also contain: \nsuccessional processes\,\nrelict flora or fauna\,\nnatural formations\,\nfossil evidence\,\nhabitat for concentrations of animals\,\nor vantage points for observing migration routes or other animal concentrations. \nExamples include: \nWorld-class peatlands in northern Minnesota\,\nnative prairie remnants in western and souther Minnesota\,\nunique shorelines along Lake Superior\, and\nthe blufflands of the southeastern Minnesota. \nProtection of multiple sites in each landscape region is a vital means of capturing the genetic diversity and preventing the loss of important species\, communities\, and features. This strategy observes the wisdom of not putting all our eggs in one basket. \nCharacteristics that distinguish Natural Areas include: \nUndisturbed plant communities\, such as prairie or peatlands\nRare or endangered species habitat\, such as the sunny rock outcrops needed for the “uncommon” five-lined skink\nSeasonal habitat for bird or animal concentrations\, such as herons\, egrets and the endangered piping plover\nNatural geologic formations and features\, such as eskers and rock outcrops\nPlant communities undergoing succession as a result of natural processes\, such as old-growth forests
URL:https://www.voyageurbrewing.com/event/icelandite-coastal-fen-fun/
LOCATION:Voyageur Brewing Company
CATEGORIES:Off-Site Events
ATTACH;FMTTYPE=image/jpeg:https://www.voyageurbrewing.com/wp-content/uploads/2018/12/2019_1_18_Exploring-Icelandite-Coastal-Fen-Event-copy-scaled.jpg
END:VEVENT
END:VCALENDAR